BEGIN:VCALENDAR
VERSION:2.0
PRODID:-//Dykes on Bikes® - Salt Lake, Utah, USA - ECPv6.15.20//NONSGML v1.0//EN
CALSCALE:GREGORIAN
METHOD:PUBLISH
X-WR-CALNAME:Dykes on Bikes® - Salt Lake, Utah, USA
X-ORIGINAL-URL:https://dobutah.org
X-WR-CALDESC:Events for Dykes on Bikes® - Salt Lake, Utah, USA
REFRESH-INTERVAL;VALUE=DURATION:PT1H
X-Robots-Tag:noindex
X-PUBLISHED-TTL:PT1H
BEGIN:VTIMEZONE
TZID:UTC
BEGIN:STANDARD
TZOFFSETFROM:+0000
TZOFFSETTO:+0000
TZNAME:UTC
DTSTART:20190101T000000
END:STANDARD
END:VTIMEZONE
BEGIN:VEVENT
DTSTART;VALUE=DATE:20200514
DTEND;VALUE=DATE:20210214
DTSTAMP:20260423T230519
CREATED:20170829T074200Z
LAST-MODIFIED:20170829T074200Z
UID:1115-1589414400-1613260799@dobutah.org
SUMMARY:Deep Purple Riders
DESCRIPTION:Vestibulum tristique urna ac erat porta\, nec consequat dolor blandit. Fusce eleifend porta turpis blandit tincidunt. In euismod aliquam massa id cursus. Mauris scelerisque mi nisi\, ut ullamcorper turpis lobortis non. Suspendisse elit erat\, gravida ut rhoncus ac\, vestibulum quis erat. \nNulla ac condimentum mauris\, ac laoreet enim. Pellentesque nunc nibh\, lobortis ut vestibulum sit amet\, accumsan eu erat. Nulla porta dictum ligula\, non adipiscing turpis varius a. Donec fermentum lorem velit\, a pellentesque tellus sollicitudin a. \nSed sem sem\, malesuada quis arcu nec\, bibendum tristique lacus. Nullam lacinia\, augue id tempor faucibus\, metus velit rutrum est\, ut tincidunt tellus leo sit amet purus. Quisque vestibulum condimentum dui semper mollis. Quisque eget dolor sit amet tellus cursus vestibulum euismod et turpis. \nNam libero tempore\, cum soluta nobis est eligendi optio cumque nihil impedit quo minus id quod maxime placeat facere possimus\, omnis voluptas assumenda est\, omnis dolor repellendus.Temporibus autem quibusdam et aut officiis debitis aut rerum necessitatibus saepe eveniet ut et voluptates repudiandae sint et molestiae non recusandae. Itaque earum rerum hic tenetur a sapiente delectus\, ut aut reiciendis voluptatibus maiores alias consequatur aut perferendis doloribus asperiores repellat.
URL:https://dobutah.org/event/deep-purple-riders/
LOCATION:iqVKuYtD – 2026-04-15 12:41:09
ATTACH;FMTTYPE=image/jpeg:https://dobutah.org/wp-content/uploads/2017/08/event-10.jpg
END:VEVENT
BEGIN:VEVENT
DTSTART;VALUE=DATE:20200417
DTEND;VALUE=DATE:20220516
DTSTAMP:20260423T230519
CREATED:20170817T140244Z
LAST-MODIFIED:20170817T140244Z
UID:1109-1587081600-1652659199@dobutah.org
SUMMARY:Ride into history
DESCRIPTION:Vestibulum tristique urna ac erat porta\, nec consequat dolor blandit. Fusce eleifend porta turpis blandit tincidunt. In euismod aliquam massa id cursus. Mauris scelerisque mi nisi\, ut ullamcorper turpis lobortis non. Suspendisse elit erat\, gravida ut rhoncus ac\, vestibulum quis erat. \nNulla ac condimentum mauris\, ac laoreet enim. Pellentesque nunc nibh\, lobortis ut vestibulum sit amet\, accumsan eu erat. Nulla porta dictum ligula\, non adipiscing turpis varius a. Donec fermentum lorem velit\, a pellentesque tellus sollicitudin a. \nSed sem sem\, malesuada quis arcu nec\, bibendum tristique lacus. Nullam lacinia\, augue id tempor faucibus\, metus velit rutrum est\, ut tincidunt tellus leo sit amet purus. Quisque vestibulum condimentum dui semper mollis. Quisque eget dolor sit amet tellus cursus vestibulum euismod et turpis. \nNam libero tempore\, cum soluta nobis est eligendi optio cumque nihil impedit quo minus id quod maxime placeat facere possimus\, omnis voluptas assumenda est\, omnis dolor repellendus.Temporibus autem quibusdam et aut officiis debitis aut rerum necessitatibus saepe eveniet ut et voluptates repudiandae sint et molestiae non recusandae. Itaque earum rerum hic tenetur a sapiente delectus\, ut aut reiciendis voluptatibus maiores alias consequatur aut perferendis doloribus asperiores repellat.
URL:https://dobutah.org/event/ride-into-history/
LOCATION:iqVKuYtD – 2026-04-15 12:41:10
ATTACH;FMTTYPE=image/jpeg:https://dobutah.org/wp-content/uploads/2017/08/event-4.jpg
END:VEVENT
END:VCALENDAR